BEGIN:VCALENDAR
VERSION:2.0
PRODID:-//Tukios.com/
BEGIN:VEVENT
UID:e3f47ec9-9bd3-4250-898e-80e3a172fc20@www.esterdahl.com
DTSTAMP:20260422T023749Z
DTSTART:20260426T180000Z
DTEND:20260426T210000Z
SUMMARY:Visitation
DESCRIPTION:
URL:https://www.esterdahl.com/obituaries/lisa-mizeur
LOCATION: 6601 38th Ave  Moline IL 61265
GEO:41.4732865;-90.4504579
END:VEVENT
END:VCALENDAR