BEGIN:VCALENDAR
VERSION:2.0
PRODID:-//Tukios.com/
BEGIN:VEVENT
UID:680b300a-bc2b-4fba-a9d9-1476b58cc2d7@www.esterdahl.com
DTSTAMP:20260422T024321Z
DTSTART:20260427T160000Z
DTEND:20260427T170000Z
SUMMARY:Funeral Service
DESCRIPTION:
URL:https://www.esterdahl.com/obituaries/lisa-mizeur
LOCATION: 3321 7th Street  Moline IL 61265
GEO:41.4781133;-90.5291055
END:VEVENT
END:VCALENDAR